BEGIN:VCALENDAR
VERSION:2.0
PRODID:-//wp-events-plugin.com//7.2.3.1//EN
TZID:Europe/Berlin
X-WR-TIMEZONE:Europe/Berlin
BEGIN:VEVENT
UID:39@varomodi.de
DTSTART;TZID=Europe/Berlin:20130615T150000
DTEND;TZID=Europe/Berlin:20130615T160000
DTSTAMP:20130603T133251Z
URL:https://varomodi.de/veranstaltungen/der-kleine-klaus-und-der-grose-kla
 us-8/
SUMMARY:Der kleine Klaus und der große Klaus
DESCRIPTION:In einem Dorf leben zwei Männer namens Klaus. Um sie besser vo
 neinander unterscheiden zu können\, nennt man den reichen Bauern den gro
 ßen Klaus und den armen Bauern den kleinen Klaus. Wie der kleine Klaus au
 s allem Bösen\, was ihm durch den großen Klaus widerfährt\, das Beste m
 acht\, so dass er am Ende sogar noch reicher ist\, erzählt diese Geschich
 te von Hans Christian Andersen.
ATTACH;FMTTYPE=image/jpeg:https://varomodi.de/assets/kleiner_grosser_klaus
 _web.jpg
CATEGORIES:Der kleine Klaus und der große Klaus
LOCATION:Schloss Kannawurf\, Schlossplan 1\, Kannawurf\, Deutschland
GEO:51.26996;11.136179999999968
X-APPLE-STRUCTURED-LOCATION;VALUE=URI;X-ADDRESS=Schlossplan 1\, Kannawurf\,
  Deutschland;X-APPLE-RADIUS=100;X-TITLE=Schloss Kannawurf:geo:51.26996,11.
 136179999999968
END:VEVENT
BEGIN:VTIMEZONE
TZID:Europe/Berlin
X-LIC-LOCATION:Europe/Berlin
BEGIN:DAYLIGHT
DTSTART:20130331T030000
TZOFFSETFROM:+0100
TZOFFSETTO:+0200
TZNAME:CEST
END:DAYLIGHT
END:VTIMEZONE
END:VCALENDAR